BEGIN:VCALENDAR
VERSION:2.0
PRODID:-//hacksw/handcal//NONSGML v1.0//EN
CALSCALE:GREGORIAN
BEGIN:VEVENT
DTEND:20070505T230000Z
UID:69e5bb23e5d50
DTSTAMP:20260420T063531Z
LOCATION:0 
DESCRIPTION:
URL;VALUE=URI:
SUMMARY:Hamborner Gesund-Leben-Lauf 2007
DTSTART:20070505T230000Z
END:VEVENT
END:VCALENDAR
An internal server error occurred.