BEGIN:VCALENDAR
VERSION:2.0
PRODID:-//hacksw/handcal//NONSGML v1.0//EN
CALSCALE:GREGORIAN
BEGIN:VEVENT
DTEND:20070505T230000Z
UID:69e51050f2822
DTSTAMP:20260419T182640Z
LOCATION:0 
DESCRIPTION:
URL;VALUE=URI:
SUMMARY:3. Bamberger Weltkulturerbelauf
DTSTART:20070505T230000Z
END:VEVENT
END:VCALENDAR
An internal server error occurred.