BEGIN:VCALENDAR
VERSION:2.0
PRODID:-//hacksw/handcal//NONSGML v1.0//EN
CALSCALE:GREGORIAN
BEGIN:VEVENT
DTEND:20070505T230000Z
UID:69e812267ff6c
DTSTAMP:20260422T011118Z
LOCATION:0 
DESCRIPTION:
URL;VALUE=URI:
SUMMARY:BezMSCH - 7. Ansbacher Citylauf
DTSTART:20070505T230000Z
END:VEVENT
END:VCALENDAR
An internal server error occurred.