BEGIN:VCALENDAR
VERSION:2.0
PRODID:-//hacksw/handcal//NONSGML v1.0//EN
CALSCALE:GREGORIAN
BEGIN:VEVENT
DTEND:20070505T230000Z
UID:69e4f6971d42b
DTSTAMP:20260419T163655Z
LOCATION:0 
DESCRIPTION:
URL;VALUE=URI:
SUMMARY:1. Maiglöckchenlauf Hohendodeleben
DTSTART:20070505T230000Z
END:VEVENT
END:VCALENDAR
An internal server error occurred.