BEGIN:VCALENDAR
VERSION:2.0
PRODID:-//hacksw/handcal//NONSGML v1.0//EN
CALSCALE:GREGORIAN
BEGIN:VEVENT
DTEND:20070505T230000Z
UID:69e4d36d445b2
DTSTAMP:20260419T140653Z
LOCATION:0 
DESCRIPTION:
URL;VALUE=URI:
SUMMARY:2. Goitzsche-Marathon
DTSTART:20070505T230000Z
END:VEVENT
END:VCALENDAR
An internal server error occurred.