BEGIN:VCALENDAR
VERSION:2.0
PRODID:-//hacksw/handcal//NONSGML v1.0//EN
CALSCALE:GREGORIAN
BEGIN:VEVENT
DTEND:20070505T230000Z
UID:69e4d36bda497
DTSTAMP:20260419T140651Z
LOCATION:0 
DESCRIPTION:
URL;VALUE=URI:
SUMMARY:Leipzig WALKING 2007
DTSTART:20070505T230000Z
END:VEVENT
END:VCALENDAR
An internal server error occurred.