BEGIN:VCALENDAR
VERSION:2.0
PRODID:-//hacksw/handcal//NONSGML v1.0//EN
CALSCALE:GREGORIAN
BEGIN:VEVENT
DTEND:20070505T230000Z
UID:69ebe864effe8
DTSTAMP:20260424T230212Z
LOCATION:0 
DESCRIPTION:
URL;VALUE=URI:
SUMMARY:5. Bad Elster-Lauf Auf den Spuren Sächsischer Könige
DTSTART:20070505T230000Z
END:VEVENT
END:VCALENDAR
An internal server error occurred.