BEGIN:VCALENDAR
VERSION:2.0
PRODID:-//hacksw/handcal//NONSGML v1.0//EN
CALSCALE:GREGORIAN
BEGIN:VEVENT
DTEND:20070505T230000Z
UID:69e4d3705bb88
DTSTAMP:20260419T140656Z
LOCATION:0 
DESCRIPTION:
URL;VALUE=URI:
SUMMARY:8. Energie Südwest-Cup
DTSTART:20070505T230000Z
END:VEVENT
END:VCALENDAR
An internal server error occurred.