BEGIN:VCALENDAR
VERSION:2.0
PRODID:-//hacksw/handcal//NONSGML v1.0//EN
CALSCALE:GREGORIAN
BEGIN:VEVENT
DTEND:20070504T230000Z
UID:69ed412c370fd
DTSTAMP:20260425T233316Z
LOCATION:0 
DESCRIPTION:
URL;VALUE=URI:
SUMMARY: 3. Neubulacher Stadtlauf  >> 2. Wertungslauf zum Alb-Nagold-Enz-Cup 
DTSTART:20070504T230000Z
END:VEVENT
END:VCALENDAR
An internal server error occurred.