BEGIN:VCALENDAR
VERSION:2.0
PRODID:-//hacksw/handcal//NONSGML v1.0//EN
CALSCALE:GREGORIAN
BEGIN:VEVENT
DTEND:20070504T230000Z
UID:69e5066a88f1f
DTSTAMP:20260419T174426Z
LOCATION:0 
DESCRIPTION:
URL;VALUE=URI:
SUMMARY:24 Stunden Europalauf
DTSTART:20070504T230000Z
END:VEVENT
END:VCALENDAR
An internal server error occurred.