BEGIN:VCALENDAR
VERSION:2.0
PRODID:-//hacksw/handcal//NONSGML v1.0//EN
CALSCALE:GREGORIAN
BEGIN:VEVENT
DTEND:20070503T230000Z
UID:69e54fb8928e5
DTSTAMP:20260419T225712Z
LOCATION:0 
DESCRIPTION:
URL;VALUE=URI:
SUMMARY:9. Lübecker Frauenlauf
DTSTART:20070503T230000Z
END:VEVENT
END:VCALENDAR
An internal server error occurred.