BEGIN:VCALENDAR
VERSION:2.0
PRODID:-//hacksw/handcal//NONSGML v1.0//EN
CALSCALE:GREGORIAN
BEGIN:VEVENT
DTEND:20070503T230000Z
UID:69ed6bb586daa
DTSTAMP:20260426T023445Z
LOCATION:0 
DESCRIPTION:
URL;VALUE=URI:
SUMMARY:Lauf in den Mai/20. Lauf rund um Burg/17. Dithmarschen-Cup 2007
DTSTART:20070503T230000Z
END:VEVENT
END:VCALENDAR
An internal server error occurred.