BEGIN:VCALENDAR
VERSION:2.0
PRODID:-//hacksw/handcal//NONSGML v1.0//EN
CALSCALE:GREGORIAN
BEGIN:VEVENT
DTEND:20070430T230000Z
UID:69e4ebde28572
DTSTAMP:20260419T155110Z
LOCATION:0 
DESCRIPTION:
URL;VALUE=URI:
SUMMARY:36. Volkswandertag
DTSTART:20070430T230000Z
END:VEVENT
END:VCALENDAR
An internal server error occurred.