BEGIN:VCALENDAR
VERSION:2.0
PRODID:-//hacksw/handcal//NONSGML v1.0//EN
CALSCALE:GREGORIAN
BEGIN:VEVENT
DTEND:20070430T230000Z
UID:69e5bb20cef80
DTSTAMP:20260420T063528Z
LOCATION:0 
DESCRIPTION:
URL;VALUE=URI:
SUMMARY:35. Int. Waldecker Lauf-- Walking und Wandertag
DTSTART:20070430T230000Z
END:VEVENT
END:VCALENDAR
An internal server error occurred.