BEGIN:VCALENDAR
VERSION:2.0
PRODID:-//hacksw/handcal//NONSGML v1.0//EN
CALSCALE:GREGORIAN
BEGIN:VEVENT
DTEND:20070429T230000Z
UID:69eb456442376
DTSTAMP:20260424T112644Z
LOCATION:0 
DESCRIPTION:
URL;VALUE=URI:
SUMMARY:9. Internationaler Nordkirchener Schloß und Dorflauf
DTSTART:20070429T230000Z
END:VEVENT
END:VCALENDAR
An internal server error occurred.