BEGIN:VCALENDAR
VERSION:2.0
PRODID:-//hacksw/handcal//NONSGML v1.0//EN
CALSCALE:GREGORIAN
BEGIN:VEVENT
DTEND:20070428T230000Z
UID:69eb2ab04f81b
DTSTAMP:20260424T093248Z
LOCATION:0 
DESCRIPTION:
URL;VALUE=URI:
SUMMARY:24. Rhein-Ruhr-Marathon- 6. Rhein-Ruhr-Halbmarathon
DTSTART:20070428T230000Z
END:VEVENT
END:VCALENDAR
An internal server error occurred.