BEGIN:VCALENDAR
VERSION:2.0
PRODID:-//hacksw/handcal//NONSGML v1.0//EN
CALSCALE:GREGORIAN
BEGIN:VEVENT
DTEND:20070428T230000Z
UID:69e54fb0d2100
DTSTAMP:20260419T225704Z
LOCATION:0 
DESCRIPTION:
URL;VALUE=URI:
SUMMARY:30. Jedermannlauf und Walking/Nordic-Walking
DTSTART:20070428T230000Z
END:VEVENT
END:VCALENDAR
An internal server error occurred.