BEGIN:VCALENDAR
VERSION:2.0
PRODID:-//hacksw/handcal//NONSGML v1.0//EN
CALSCALE:GREGORIAN
BEGIN:VEVENT
DTEND:20070427T230000Z
UID:69e5066df37ad
DTSTAMP:20260419T174429Z
LOCATION:0 
DESCRIPTION:
URL;VALUE=URI:
SUMMARY:21. Friedrich-Wischhöfer-Lauf
DTSTART:20070427T230000Z
END:VEVENT
END:VCALENDAR
An internal server error occurred.