BEGIN:VCALENDAR
VERSION:2.0
PRODID:-//hacksw/handcal//NONSGML v1.0//EN
CALSCALE:GREGORIAN
BEGIN:VEVENT
DTEND:20070427T230000Z
UID:69e56979a1e2f
DTSTAMP:20260420T004705Z
LOCATION:0 
DESCRIPTION:
URL;VALUE=URI:
SUMMARY:23. Geretsrieder Stadtlauf
DTSTART:20070427T230000Z
END:VEVENT
END:VCALENDAR
An internal server error occurred.