BEGIN:VCALENDAR
VERSION:2.0
PRODID:-//hacksw/handcal//NONSGML v1.0//EN
CALSCALE:GREGORIAN
BEGIN:VEVENT
DTEND:20070427T230000Z
UID:69e59f9a8261a
DTSTAMP:20260420T043802Z
LOCATION:0 
DESCRIPTION:
URL;VALUE=URI:
SUMMARY:Ottilienberglauf- Start 13:45 + 15:00
DTSTART:20070427T230000Z
END:VEVENT
END:VCALENDAR
An internal server error occurred.