BEGIN:VCALENDAR
VERSION:2.0
PRODID:-//hacksw/handcal//NONSGML v1.0//EN
CALSCALE:GREGORIAN
BEGIN:VEVENT
DTEND:20070427T230000Z
UID:69e5066e34b8d
DTSTAMP:20260419T174430Z
LOCATION:0 
DESCRIPTION:
URL;VALUE=URI:
SUMMARY:16. Energy-M Citylauf
DTSTART:20070427T230000Z
END:VEVENT
END:VCALENDAR
An internal server error occurred.