BEGIN:VCALENDAR
VERSION:2.0
PRODID:-//hacksw/handcal//NONSGML v1.0//EN
CALSCALE:GREGORIAN
BEGIN:VEVENT
DTEND:20070427T230000Z
UID:69e8122bbe1bd
DTSTAMP:20260422T011123Z
LOCATION:0 
DESCRIPTION:
URL;VALUE=URI:
SUMMARY:4. KKH-Herz-Kreis-Lauf 2007
DTSTART:20070427T230000Z
END:VEVENT
END:VCALENDAR
An internal server error occurred.