BEGIN:VCALENDAR
VERSION:2.0
PRODID:-//hacksw/handcal//NONSGML v1.0//EN
CALSCALE:GREGORIAN
BEGIN:VEVENT
DTEND:20070421T230000Z
UID:69e5697726f7d
DTSTAMP:20260420T004703Z
LOCATION:0 
DESCRIPTION:
URL;VALUE=URI:
SUMMARY:3. Zülpicher Chlodwigslauf
DTSTART:20070421T230000Z
END:VEVENT
END:VCALENDAR
An internal server error occurred.