BEGIN:VCALENDAR
VERSION:2.0
PRODID:-//hacksw/handcal//NONSGML v1.0//EN
CALSCALE:GREGORIAN
BEGIN:VEVENT
DTEND:20070421T230000Z
UID:69e54fb464d57
DTSTAMP:20260419T225708Z
LOCATION:0 
DESCRIPTION:
URL;VALUE=URI:
SUMMARY:Mfr-BezMSCH HM- 13. Amberger Halbmarathon
DTSTART:20070421T230000Z
END:VEVENT
END:VCALENDAR
An internal server error occurred.