BEGIN:VCALENDAR
VERSION:2.0
PRODID:-//hacksw/handcal//NONSGML v1.0//EN
CALSCALE:GREGORIAN
BEGIN:VEVENT
DTEND:20070421T230000Z
UID:69ed22d6b5752
DTSTAMP:20260425T212350Z
LOCATION:0 
DESCRIPTION:
URL;VALUE=URI:
SUMMARY:13. Frühjahrswaldlauf - Miesbacher Lkrs.Waldlauf
DTSTART:20070421T230000Z
END:VEVENT
END:VCALENDAR
An internal server error occurred.