BEGIN:VCALENDAR
VERSION:2.0
PRODID:-//hacksw/handcal//NONSGML v1.0//EN
CALSCALE:GREGORIAN
BEGIN:VEVENT
DTEND:20070421T230000Z
UID:69e5066fe04d4
DTSTAMP:20260419T174431Z
LOCATION:0 
DESCRIPTION:
URL;VALUE=URI:
SUMMARY:4. RBB-Lauf Drittelmarathon
DTSTART:20070421T230000Z
END:VEVENT
END:VCALENDAR
An internal server error occurred.