BEGIN:VCALENDAR
VERSION:2.0
PRODID:-//hacksw/handcal//NONSGML v1.0//EN
CALSCALE:GREGORIAN
BEGIN:VEVENT
DTEND:20070421T230000Z
UID:69e5dd67638e3
DTSTAMP:20260420T090143Z
LOCATION:0 
DESCRIPTION:
URL;VALUE=URI:
SUMMARY:20. Neureuter Volkslauf- Kinderläufe
DTSTART:20070421T230000Z
END:VEVENT
END:VCALENDAR
An internal server error occurred.