BEGIN:VCALENDAR
VERSION:2.0
PRODID:-//hacksw/handcal//NONSGML v1.0//EN
CALSCALE:GREGORIAN
BEGIN:VEVENT
DTEND:20070421T230000Z
UID:69ed86f59856e
DTSTAMP:20260426T043101Z
LOCATION:0 
DESCRIPTION:
URL;VALUE=URI:
SUMMARY:16. 10km Stadtlauf Wiesloch- Schüler und Bambiniläufe Start ab 12:15
DTSTART:20070421T230000Z
END:VEVENT
END:VCALENDAR
An internal server error occurred.