BEGIN:VCALENDAR
VERSION:2.0
PRODID:-//hacksw/handcal//NONSGML v1.0//EN
CALSCALE:GREGORIAN
BEGIN:VEVENT
DTEND:20070421T230000Z
UID:69eca7b951684
DTSTAMP:20260425T123833Z
LOCATION:0 
DESCRIPTION:
URL;VALUE=URI:
SUMMARY:15. Winterbacher Remstal-Lauf und mit Inliner-Skating Wertung
DTSTART:20070421T230000Z
END:VEVENT
END:VCALENDAR
An internal server error occurred.