BEGIN:VCALENDAR
VERSION:2.0
PRODID:-//hacksw/handcal//NONSGML v1.0//EN
CALSCALE:GREGORIAN
BEGIN:VEVENT
DTEND:20070421T230000Z
UID:69e9b91612463
DTSTAMP:20260423T071550Z
LOCATION:0 
DESCRIPTION:
URL;VALUE=URI:
SUMMARY:3. Lustnauer Walktag  Lustnau läuft - lauf mit ... 
DTSTART:20070421T230000Z
END:VEVENT
END:VCALENDAR
An internal server error occurred.