BEGIN:VCALENDAR
VERSION:2.0
PRODID:-//hacksw/handcal//NONSGML v1.0//EN
CALSCALE:GREGORIAN
BEGIN:VEVENT
DTEND:20070421T230000Z
UID:69ed74ab4de1c
DTSTAMP:20260426T031259Z
LOCATION:0 
DESCRIPTION:
URL;VALUE=URI:
SUMMARY:24. Int.Volkslauf Rund um den Allwetterzoo'
DTSTART:20070421T230000Z
END:VEVENT
END:VCALENDAR
An internal server error occurred.