BEGIN:VCALENDAR
VERSION:2.0
PRODID:-//hacksw/handcal//NONSGML v1.0//EN
CALSCALE:GREGORIAN
BEGIN:VEVENT
DTEND:20070420T230000Z
UID:69e56978e2402
DTSTAMP:20260420T004704Z
LOCATION:0 
DESCRIPTION:
URL;VALUE=URI:
SUMMARY:35. Volkslauf
DTSTART:20070420T230000Z
END:VEVENT
END:VCALENDAR
An internal server error occurred.