BEGIN:VCALENDAR
VERSION:2.0
PRODID:-//hacksw/handcal//NONSGML v1.0//EN
CALSCALE:GREGORIAN
BEGIN:VEVENT
DTEND:20070420T230000Z
UID:69ed86f63ffc7
DTSTAMP:20260426T043102Z
LOCATION:0 
DESCRIPTION:
URL;VALUE=URI:
SUMMARY:4. Altenlotheimer Dorflauf - 200. Jubiläumslauf. Waldeck-Frankenberg Lauf-Cup
DTSTART:20070420T230000Z
END:VEVENT
END:VCALENDAR
An internal server error occurred.