BEGIN:VCALENDAR
VERSION:2.0
PRODID:-//hacksw/handcal//NONSGML v1.0//EN
CALSCALE:GREGORIAN
BEGIN:VEVENT
DTEND:20070420T230000Z
UID:69e5bb1d5e734
DTSTAMP:20260420T063525Z
LOCATION:0 
DESCRIPTION:
URL;VALUE=URI:
SUMMARY:19. Int. Gelsenkirchener Volkslauf 2007
DTSTART:20070420T230000Z
END:VEVENT
END:VCALENDAR
An internal server error occurred.