BEGIN:VCALENDAR
VERSION:2.0
PRODID:-//hacksw/handcal//NONSGML v1.0//EN
CALSCALE:GREGORIAN
BEGIN:VEVENT
DTEND:20070420T230000Z
UID:69ed16b2d92f6
DTSTAMP:20260425T203202Z
LOCATION:0 
DESCRIPTION:
URL;VALUE=URI:
SUMMARY:39. Göltzschtallauf (LM Straßenlauf)
DTSTART:20070420T230000Z
END:VEVENT
END:VCALENDAR
An internal server error occurred.