BEGIN:VCALENDAR
VERSION:2.0
PRODID:-//hacksw/handcal//NONSGML v1.0//EN
CALSCALE:GREGORIAN
BEGIN:VEVENT
DTEND:20070415T230000Z
UID:69e9b91b9a325
DTSTAMP:20260423T071555Z
LOCATION:0 
DESCRIPTION:
URL;VALUE=URI:
SUMMARY:Rennsteig Etappenlauf (bis 21.04.)
DTSTART:20070415T230000Z
END:VEVENT
END:VCALENDAR
An internal server error occurred.