BEGIN:VCALENDAR
VERSION:2.0
PRODID:-//hacksw/handcal//NONSGML v1.0//EN
CALSCALE:GREGORIAN
BEGIN:VEVENT
DTEND:20070414T230000Z
UID:69ed93981a360
DTSTAMP:20260426T052456Z
LOCATION:0 
DESCRIPTION:
URL;VALUE=URI:
SUMMARY:27. Schömberger Volkslauf Rund um den Stausee - 1. Lauf zum Silberdistel Alb-Cup
DTSTART:20070414T230000Z
END:VEVENT
END:VCALENDAR
An internal server error occurred.