BEGIN:VCALENDAR
VERSION:2.0
PRODID:-//hacksw/handcal//NONSGML v1.0//EN
CALSCALE:GREGORIAN
BEGIN:VEVENT
DTEND:20070414T230000Z
UID:69eac5fd5082e
DTSTAMP:20260424T022309Z
LOCATION:0 
DESCRIPTION:
URL;VALUE=URI:
SUMMARY:15. Straßenlauf rund um die Wibbeltkapelle
DTSTART:20070414T230000Z
END:VEVENT
END:VCALENDAR
An internal server error occurred.