BEGIN:VCALENDAR
VERSION:2.0
PRODID:-//hacksw/handcal//NONSGML v1.0//EN
CALSCALE:GREGORIAN
BEGIN:VEVENT
DTEND:20070414T230000Z
UID:69eb3b9f92d6f
DTSTAMP:20260424T104503Z
LOCATION:0 
DESCRIPTION:
URL;VALUE=URI:
SUMMARY:10. Lauf in den Frühling / 3. Lauf Lichtenauer Sachsen-Cup 2007
DTSTART:20070414T230000Z
END:VEVENT
END:VCALENDAR
An internal server error occurred.