BEGIN:VCALENDAR
VERSION:2.0
PRODID:-//hacksw/handcal//NONSGML v1.0//EN
CALSCALE:GREGORIAN
BEGIN:VEVENT
DTEND:20070414T230000Z
UID:69e59f96f021c
DTSTAMP:20260420T043758Z
LOCATION:0 
DESCRIPTION:
URL;VALUE=URI:
SUMMARY:26. TSG Halbmarathon/ Der Laufladen 
DTSTART:20070414T230000Z
END:VEVENT
END:VCALENDAR
An internal server error occurred.