BEGIN:VCALENDAR
VERSION:2.0
PRODID:-//hacksw/handcal//NONSGML v1.0//EN
CALSCALE:GREGORIAN
BEGIN:VEVENT
DTEND:20070413T230000Z
UID:69e972c816b66
DTSTAMP:20260423T021552Z
LOCATION:0 
DESCRIPTION:
URL;VALUE=URI:
SUMMARY:24. Karl-und-Helmut-Will-Gedächtnislauf
DTSTART:20070413T230000Z
END:VEVENT
END:VCALENDAR
An internal server error occurred.