BEGIN:VCALENDAR
VERSION:2.0
PRODID:-//hacksw/handcal//NONSGML v1.0//EN
CALSCALE:GREGORIAN
BEGIN:VEVENT
DTEND:20070413T230000Z
UID:69ecb815348bb
DTSTAMP:20260425T134821Z
LOCATION:0 
DESCRIPTION:
URL;VALUE=URI:
SUMMARY:19. Murrer Volkslauf mit Bottwartal - Kellerei-Cup und Beyerdynamic-Cup
DTSTART:20070413T230000Z
END:VEVENT
END:VCALENDAR
An internal server error occurred.