BEGIN:VCALENDAR
VERSION:2.0
PRODID:-//hacksw/handcal//NONSGML v1.0//EN
CALSCALE:GREGORIAN
BEGIN:VEVENT
DTEND:20070331T230000Z
UID:69eaa44864328
DTSTAMP:20260423T235920Z
LOCATION:0 
DESCRIPTION:
URL;VALUE=URI:
SUMMARY:7. Wandsetaler Runde durch Wandsbek- Hinschenfelde und Tonndorf
DTSTART:20070331T230000Z
END:VEVENT
END:VCALENDAR
An internal server error occurred.