BEGIN:VCALENDAR
VERSION:2.0
PRODID:-//hacksw/handcal//NONSGML v1.0//EN
CALSCALE:GREGORIAN
BEGIN:VEVENT
DTEND:20070331T230000Z
UID:69ed86f956f72
DTSTAMP:20260426T043105Z
LOCATION:0 
DESCRIPTION:
URL;VALUE=URI:
SUMMARY:Durch das alte Land (offizieller Vorbereitungslauf zum MARATHON HAMBURG)
DTSTART:20070331T230000Z
END:VEVENT
END:VCALENDAR
An internal server error occurred.