BEGIN:VCALENDAR
VERSION:2.0
PRODID:-//hacksw/handcal//NONSGML v1.0//EN
CALSCALE:GREGORIAN
BEGIN:VEVENT
DTEND:20070331T230000Z
UID:69ecf428345b7
DTSTAMP:20260425T180440Z
LOCATION:0 
DESCRIPTION:
URL;VALUE=URI:
SUMMARY:35. Volks- und Straßenlauf Rund um die Leuchtberge
DTSTART:20070331T230000Z
END:VEVENT
END:VCALENDAR
An internal server error occurred.