BEGIN:VCALENDAR
VERSION:2.0
PRODID:-//hacksw/handcal//NONSGML v1.0//EN
CALSCALE:GREGORIAN
BEGIN:VEVENT
DTEND:20070331T230000Z
UID:69ecaee2d2ad5
DTSTAMP:20260425T130906Z
LOCATION:0 
DESCRIPTION:
URL;VALUE=URI:
SUMMARY:2. Stutensee Stadtlauf- Volkslauf 10km- Bambini-- Schüler- und Jugendläufe
DTSTART:20070331T230000Z
END:VEVENT
END:VCALENDAR
An internal server error occurred.