BEGIN:VCALENDAR
VERSION:2.0
PRODID:-//hacksw/handcal//NONSGML v1.0//EN
CALSCALE:GREGORIAN
BEGIN:VEVENT
DTEND:20070330T230000Z
UID:69e9950fb5277
DTSTAMP:20260423T044207Z
LOCATION:0 
DESCRIPTION:
URL;VALUE=URI:
SUMMARY:KrsMSCH Cross - DAK-Cross / OVL-Cup 2007
DTSTART:20070330T230000Z
END:VEVENT
END:VCALENDAR
An internal server error occurred.