BEGIN:VCALENDAR
VERSION:2.0
PRODID:-//hacksw/handcal//NONSGML v1.0//EN
CALSCALE:GREGORIAN
BEGIN:VEVENT
DTEND:20070324T230000Z
UID:69ece6c7ed947
DTSTAMP:20260425T170735Z
LOCATION:0 
DESCRIPTION:
URL;VALUE=URI:
SUMMARY:Winterlauf-Serie- 5.Lauf- 5km-Rundkurs - ein- bis viermal durchlaufbar
DTSTART:20070324T230000Z
END:VEVENT
END:VCALENDAR
An internal server error occurred.