BEGIN:VCALENDAR
VERSION:2.0
PRODID:-//hacksw/handcal//NONSGML v1.0//EN
CALSCALE:GREGORIAN
BEGIN:VEVENT
DTEND:20070324T230000Z
UID:69ecd8ae4816b
DTSTAMP:20260425T160726Z
LOCATION:0 
DESCRIPTION:
URL;VALUE=URI:
SUMMARY:9. Rheinauen-Energie-Lauf- 2-6km- Lauf und Walking
DTSTART:20070324T230000Z
END:VEVENT
END:VCALENDAR
An internal server error occurred.