BEGIN:VCALENDAR
VERSION:2.0
PRODID:-//hacksw/handcal//NONSGML v1.0//EN
CALSCALE:GREGORIAN
BEGIN:VEVENT
DTEND:20070324T230000Z
UID:69e56978b379c
DTSTAMP:20260420T004704Z
LOCATION:0 
DESCRIPTION:
URL;VALUE=URI:
SUMMARY:Lauftreff der SG Olympia 1896 Leipzig
DTSTART:20070324T230000Z
END:VEVENT
END:VCALENDAR
An internal server error occurred.